﻿BEGIN:VCALENDAR
VERSION:2.0
PRODID:-//Judo klub Olimpija, Ljubljana - uradna spletna stran - ECPv6.5.1.4//NONSGML v1.0//EN
CALSCALE:GREGORIAN
METHOD:PUBLISH
X-WR-CALNAME:Judo klub Olimpija, Ljubljana - uradna spletna stran
X-ORIGINAL-URL:http://judo-olimpija.com
X-WR-CALDESC:Events for Judo klub Olimpija, Ljubljana - uradna spletna stran
REFRESH-INTERVAL;VALUE=DURATION:PT1H
X-Robots-Tag:noindex
X-PUBLISHED-TTL:PT1H
BEGIN:VTIMEZONE
TZID:Europe/Ljubljana
BEGIN:DAYLIGHT
TZOFFSETFROM:+0100
TZOFFSETTO:+0200
TZNAME:CEST
DTSTART:20240331T010000
END:DAYLIGHT
BEGIN:STANDARD
TZOFFSETFROM:+0200
TZOFFSETTO:+0100
TZNAME:CET
DTSTART:20241027T010000
END:STANDARD
END:VTIMEZONE
BEGIN:VEVENT
DTSTART;VALUE=DATE:20240808
DTEND;VALUE=DATE:20240810
DTSTAMP:20260421T074414
CREATED:20240613T193302Z
LAST-MODIFIED:20240613T193302Z
UID:1964-1723075200-1723247999@judo-olimpija.com
SUMMARY:Izpiti za rjave in črne pasove
DESCRIPTION:https://judoslo.si/event/1527 \n 
URL:http://judo-olimpija.com/dogodki/izpiti-za-rjave-in-crne-pasove/
LOCATION:Večnamenska športna dvorana Livade\, Livade 8a\, Izola\, 6310\, Slovenija
END:VEVENT
BEGIN:VEVENT
DTSTART;VALUE=DATE:20240727
DTEND;VALUE=DATE:20240728
DTSTAMP:20260421T074414
CREATED:20240613T193714Z
LAST-MODIFIED:20240613T193714Z
UID:1968-1722038400-1722124799@judo-olimpija.com
SUMMARY:Olimpijske igre Pariz 2024
DESCRIPTION:
URL:http://judo-olimpija.com/dogodki/olimpijske-igre-pariz-2024/
LOCATION:Champ de Mars Arena\, 2 Pl. Joffre\, Pariz\, 75007\, Francija
END:VEVENT
BEGIN:VEVENT
DTSTART;VALUE=DATE:20240629
DTEND;VALUE=DATE:20240715
DTSTAMP:20260421T074414
CREATED:20240613T192457Z
LAST-MODIFIED:20240613T192524Z
UID:1960-1719619200-1721001599@judo-olimpija.com
SUMMARY:Benidorm EJU OTC 2024 + TC Valencia
DESCRIPTION:Benidorm EJU OTC 2024
URL:http://judo-olimpija.com/dogodki/benidorm-eju-otc-2024-tc-valencia/
LOCATION:Palau d’Esports l’Illa de Benidorm\, Partida Salto del Agua\, s/n\, Benidorm\, 03502\, Španija
END:VEVENT
BEGIN:VEVENT
DTSTART;VALUE=DATE:20240622
DTEND;VALUE=DATE:20240624
DTSTAMP:20260421T074414
CREATED:20240613T191506Z
LAST-MODIFIED:20240613T193909Z
UID:1950-1719014400-1719187199@judo-olimpija.com
SUMMARY:Hoče European Judo Hopes Cup & Technical Session Kodokan Experts
DESCRIPTION:Za starost 14 in 13 let (rojeni 2010 in 2011). \nHoče  European Judo Hopes Cup & Technical Session Kodokan Experts \n \n 
URL:http://judo-olimpija.com/dogodki/hoce-european-judo-hopes-cup-technical-session-kodokan-experts/
LOCATION:Večnamenska športna dvorana Hoče\, Šolska ulica 14\, Hoče\, 2311\, Slovenija
END:VEVENT
BEGIN:VEVENT
DTSTART;VALUE=DATE:20240620
DTEND;VALUE=DATE:20240621
DTSTAMP:20260421T074414
CREATED:20240613T192022Z
LAST-MODIFIED:20240613T192022Z
UID:1957-1718841600-1718927999@judo-olimpija.com
SUMMARY:Izpiti za pasove - OŠ Prule
DESCRIPTION:
URL:http://judo-olimpija.com/dogodki/izpiti-za-pasove-os-prule/
LOCATION:OŠ Prule\, Prule 13\, Ljubljana\, 1000\, Slovenija
END:VEVENT
BEGIN:VEVENT
DTSTART;VALUE=DATE:20240610
DTEND;VALUE=DATE:20240625
DTSTAMP:20260421T074414
CREATED:20240613T190039Z
LAST-MODIFIED:20240613T191822Z
UID:1948-1717977600-1719273599@judo-olimpija.com
SUMMARY:OTC Poreč
DESCRIPTION:Članske priprave.
URL:http://judo-olimpija.com/dogodki/otc-porec/
END:VEVENT
BEGIN:VEVENT
DTSTART;VALUE=DATE:20240601
DTEND;VALUE=DATE:20240616
DTSTAMP:20260421T074414
CREATED:20240613T191744Z
LAST-MODIFIED:20240613T191744Z
UID:1954-1717200000-1718495999@judo-olimpija.com
SUMMARY:Izpiti za šolske pasove
DESCRIPTION:
URL:http://judo-olimpija.com/dogodki/izpiti-za-solske-pasove/
LOCATION:Borilnica Tivoli\, Celovška cesta 25\, Ljubljana\, 1000\, Slovenija
END:VEVENT
END:VCALENDAR