﻿BEGIN:VCALENDAR
VERSION:2.0
PRODID:-//Judo klub Olimpija, Ljubljana - uradna spletna stran - ECPv6.5.1.4//NONSGML v1.0//EN
CALSCALE:GREGORIAN
METHOD:PUBLISH
X-WR-CALNAME:Judo klub Olimpija, Ljubljana - uradna spletna stran
X-ORIGINAL-URL:http://judo-olimpija.com
X-WR-CALDESC:Events for Judo klub Olimpija, Ljubljana - uradna spletna stran
REFRESH-INTERVAL;VALUE=DURATION:PT1H
X-Robots-Tag:noindex
X-PUBLISHED-TTL:PT1H
BEGIN:VTIMEZONE
TZID:Europe/Ljubljana
BEGIN:DAYLIGHT
TZOFFSETFROM:+0100
TZOFFSETTO:+0200
TZNAME:CEST
DTSTART:20240331T010000
END:DAYLIGHT
BEGIN:STANDARD
TZOFFSETFROM:+0200
TZOFFSETTO:+0100
TZNAME:CET
DTSTART:20241027T010000
END:STANDARD
BEGIN:DAYLIGHT
TZOFFSETFROM:+0100
TZOFFSETTO:+0200
TZNAME:CEST
DTSTART:20250330T010000
END:DAYLIGHT
BEGIN:STANDARD
TZOFFSETFROM:+0200
TZOFFSETTO:+0100
TZNAME:CET
DTSTART:20251026T010000
END:STANDARD
END:VTIMEZONE
BEGIN:VEVENT
DTSTART;VALUE=DATE:20250419
DTEND;VALUE=DATE:20250420
DTSTAMP:20260421T054559
CREATED:20250419T160501Z
LAST-MODIFIED:20250419T160501Z
UID:3349-1745020800-1745107199@judo-olimpija.com
SUMMARY:39. Turnir Bežigrad
DESCRIPTION:
URL:http://judo-olimpija.com/dogodki/39-turnir-bezigrad/
CATEGORIES:Tekmovanje
END:VEVENT
BEGIN:VEVENT
DTSTART;TZID=Europe/Ljubljana:20250309T080000
DTEND;TZID=Europe/Ljubljana:20250309T170000
DTSTAMP:20260421T054559
CREATED:20250108T101109Z
LAST-MODIFIED:20250108T101109Z
UID:3067-1741507200-1741539600@judo-olimpija.com
SUMMARY:Državno prvenstvo U16\, U21
DESCRIPTION:
URL:http://judo-olimpija.com/dogodki/drzavno-prvenstvo-u16-u21/
CATEGORIES:Tekmovanje
END:VEVENT
BEGIN:VEVENT
DTSTART;TZID=Europe/Ljubljana:20250227T160000
DTEND;TZID=Europe/Ljubljana:20250227T200000
DTSTAMP:20260421T054559
CREATED:20250205T111544Z
LAST-MODIFIED:20250205T111544Z
UID:3165-1740672000-1740686400@judo-olimpija.com
SUMMARY:Obisk Vodnega mesta Atlantis med zimskimi počitnicami
DESCRIPTION:V četrtek 27. 2. popoldan načrtujemo skupinski obisk Vodnega mesta Atlantis. \nCena za 3-urni obisk bo 10 €/osebo. \nZbor v Tivoliju bo predvidoma ob 16 h in skupaj bi šli do Atlantisa z mestnim avtobusom. Lahko pa pridete direktno do Atlantisa\, kjer bi se torej dobili ob 16:30. \nProsimo\, da udeležbo javite preko obrazca\, ki ste ga prejeli na e-mail. Sporočite\, ali pridete v Tivoli ali do Atlatisa ter če bo z otrokom v Atlantis šel tudi starš.
URL:http://judo-olimpija.com/dogodki/obisk-vodnega-mesta-atlantis-med-zimskimi-pocitnicami/
LOCATION:Vodno mesto Atlantis\, Španska ulica 1\, Ljubljana\, 1000\, Slovenija
END:VEVENT
BEGIN:VEVENT
DTSTART;TZID=Europe/Ljubljana:20250220T170000
DTEND;TZID=Europe/Ljubljana:20250220T180000
DTSTAMP:20260421T054559
CREATED:20250206T163215Z
LAST-MODIFIED:20250206T163215Z
UID:3171-1740070800-1740074400@judo-olimpija.com
SUMMARY:Klubsko tekmovaje v judo igrah
DESCRIPTION:V času treninga najmlajše skupine v Tivoliju (17:00-18:00) imeli KLUBSKO TEKMOVANJE V JUDO IGRAH za letnike 2017 in mlajše.\n\nOtroke bomo razdelili v štiri skupine glede na težo in pas znotraj katerih se bodo pomerili med seboj v sumo borbi in vlečenju pasu. Prvi štirje iz vsake skupine bodo prejeli medalje\, prav vsi pa bodo dobili neko malenkost za udeležbo.
URL:http://judo-olimpija.com/dogodki/klubsko-tekmovaje-v-judo-igrah/
LOCATION:Borilnica Tivoli\, Celovška cesta 25\, Ljubljana\, 1000\, Slovenija
END:VEVENT
BEGIN:VEVENT
DTSTART;TZID=Europe/Ljubljana:20250208T100000
DTEND;TZID=Europe/Ljubljana:20250208T130000
DTSTAMP:20260421T054559
CREATED:20250108T091403Z
LAST-MODIFIED:20250205T105731Z
UID:3037-1739008800-1739019600@judo-olimpija.com
SUMMARY:Zimski pohod - U12 in mlajši
DESCRIPTION:Pohod na Rašico za skupino U12 in mlajše ter njihove starše\, bratce/sestrice\, kužke … \nZBOR: 10:00\, parkirišče na začetku Rašice is strani Srednje Gameljne ( https://www.google.com/maps/dir//46.134766\,14.504231/@46.1347977\,14.4217741\,12z/data=!3m1!4b1!4m2!4m1!3e0!11m1!6b1?entry=ttu&g_ep=EgoyMDI1MDEyNi4wIKXMDSoASAFQAw%3D%3D )\n\nPOVRATEK: predviden do 13:00
URL:http://judo-olimpija.com/dogodki/zimski-pohod/
CATEGORIES:Klubska aktivnost
END:VEVENT
BEGIN:VEVENT
DTSTART;VALUE=DATE:20250208
DTEND;VALUE=DATE:20250210
DTSTAMP:20260421T054559
CREATED:20250108T100631Z
LAST-MODIFIED:20250108T100631Z
UID:3062-1738972800-1739145599@judo-olimpija.com
SUMMARY:Sarajevo Junior European Cup 2025 - U21
DESCRIPTION:Podrobnosti tekmovanja: https://www.eju.net/event/sarajevo-junior-european-cup-2025/342387/
URL:http://judo-olimpija.com/dogodki/sarajevo-junior-european-cup-2025-u21/
LOCATION:Sport hall ” Arena” Hotel Hills\, Butmirska Cesta 12\, Sarajevo\, Bosnia and Herzegovina
CATEGORIES:Tekmovanje
END:VEVENT
BEGIN:VEVENT
DTSTART;VALUE=DATE:20250208
DTEND;VALUE=DATE:20250210
DTSTAMP:20260421T054559
CREATED:20250108T095921Z
LAST-MODIFIED:20250108T095921Z
UID:3060-1738972800-1739145599@judo-olimpija.com
SUMMARY:European Open Ljubljana 2025 - člani
DESCRIPTION:Podrobnosti tekmovanja: https://www.ijf.org/competition/2922 \n 
URL:http://judo-olimpija.com/dogodki/european-open-ljubljana-2025-clani/
CATEGORIES:Tekmovanje
END:VEVENT
BEGIN:VEVENT
DTSTART;VALUE=DATE:20250202
DTEND;VALUE=DATE:20250203
DTSTAMP:20260421T054559
CREATED:20250108T095239Z
LAST-MODIFIED:20250108T095239Z
UID:3056-1738454400-1738540799@judo-olimpija.com
SUMMARY:Državno prvenstrvo U14
DESCRIPTION:Podrobnosti tekmovanja: https://www.judoslo.si/competition/5148
URL:http://judo-olimpija.com/dogodki/drzavno-prvenstrvo-u14/
CATEGORIES:Tekmovanje
END:VEVENT
BEGIN:VEVENT
DTSTART;VALUE=DATE:20250201
DTEND;VALUE=DATE:20250202
DTSTAMP:20260421T054559
CREATED:20250108T095006Z
LAST-MODIFIED:20250108T095631Z
UID:3054-1738368000-1738454399@judo-olimpija.com
SUMMARY:Državno prvenstvo U18
DESCRIPTION:Tekmovali bodo tudi nekateri tekmovalci letnika 2010. \nPodrobnosti tekmovanja: https://www.judoslo.si/competition/5147
URL:http://judo-olimpija.com/dogodki/drzavno-prvenstvo-u18/
CATEGORIES:Tekmovanje
END:VEVENT
BEGIN:VEVENT
DTSTART;VALUE=DATE:20250201
DTEND;VALUE=DATE:20250202
DTSTAMP:20260421T054559
CREATED:20250108T094759Z
LAST-MODIFIED:20250108T161129Z
UID:3051-1738368000-1738454399@judo-olimpija.com
SUMMARY:3. Judo panda kamniški turnir - U10\, U12
DESCRIPTION:3. Kamniški judo panda turnir
URL:http://judo-olimpija.com/dogodki/2-judo-panda-kamniski-turnir-u10-u12/
LOCATION:Kamnik\, Kamnik\, Slovenija
CATEGORIES:Tekmovanje
END:VEVENT
BEGIN:VEVENT
DTSTART;VALUE=DATE:20250125
DTEND;VALUE=DATE:20250126
DTSTAMP:20260421T054559
CREATED:20250108T094455Z
LAST-MODIFIED:20250108T094455Z
UID:3049-1737763200-1737849599@judo-olimpija.com
SUMMARY:Pokal Lendave - U16\, U21
DESCRIPTION:Podrobnosti tekmovanja: https://www.judoslo.si/competition/5145
URL:http://judo-olimpija.com/dogodki/pokal-lendave-u16-u21/
CATEGORIES:Tekmovanje
END:VEVENT
BEGIN:VEVENT
DTSTART;VALUE=DATE:20250119
DTEND;VALUE=DATE:20250120
DTSTAMP:20260421T054559
CREATED:20250108T093959Z
LAST-MODIFIED:20250108T093959Z
UID:3047-1737244800-1737331199@judo-olimpija.com
SUMMARY:Memorial Stanka Topolčnika - U12
DESCRIPTION:Tekmovanja se bomo udeležili s tekmovalci U12\, ki so dobitniki medalj z jesenskega dela. \nPodrobnosti o tekmovanju: https://www.judoslo.si/competition/5144
URL:http://judo-olimpija.com/dogodki/memorial-stanka-topolcnika-u12/
CATEGORIES:Tekmovanje
END:VEVENT
BEGIN:VEVENT
DTSTART;VALUE=DATE:20250118
DTEND;VALUE=DATE:20250119
DTSTAMP:20260421T054559
CREATED:20250108T092813Z
LAST-MODIFIED:20250108T092813Z
UID:3045-1737158400-1737244799@judo-olimpija.com
SUMMARY:Pohorski Bataljon - U18\, člani
DESCRIPTION:Tekmovanje\, ki se ga bodo udeležili člani\, U21 (v članski kategoriji) in U18. \nPodrobnosti o tekmovanju: https://www.judoslo.si/competition/5143
URL:http://judo-olimpija.com/dogodki/pohorski-bataljon-u18-clani/
CATEGORIES:Tekmovanje
END:VEVENT
BEGIN:VEVENT
DTSTART;VALUE=DATE:20250111
DTEND;VALUE=DATE:20250112
DTSTAMP:20260421T054559
CREATED:20250108T092354Z
LAST-MODIFIED:20250108T092354Z
UID:3043-1736553600-1736639999@judo-olimpija.com
SUMMARY:15. Mednarodni pokal Beltinci 2025  - U14
DESCRIPTION:Podrobnosti tekmovanja: https://www.judoslo.si/competition/5115 \n 
URL:http://judo-olimpija.com/dogodki/15-mednarodni-pokal-beltinci-2025-u14/
CATEGORIES:Tekmovanje
END:VEVENT
BEGIN:VEVENT
DTSTART;VALUE=DATE:20250110
DTEND;VALUE=DATE:20250113
DTSTAMP:20260421T054559
CREATED:20250108T092137Z
LAST-MODIFIED:20250108T092137Z
UID:3040-1736467200-1736726399@judo-olimpija.com
SUMMARY:Priprave v Zagrebu - U16\, U18\, U21
DESCRIPTION:Posamezni dan se bodo dveh treningov v sklopu priprav udeležili: \n– v petek\, 10. 1.\, tekmovalci U21 (trener Marko)\, \n– v soboto\, 11. 1.\, tekmovalci U16 (trenerka Maruša)\, \n– v nedeljo\, 12. 1.\, tekmovalci U18/U16 (trenerka Anja). \nO podrobnostih se dogovarjamo individualno.
URL:http://judo-olimpija.com/dogodki/priprave-v-zagrebu-u16-u18-u21/
LOCATION:Zagreb\, Zagreb\, Hrvaška
CATEGORIES:Priprave
END:VEVENT
BEGIN:VEVENT
DTSTART;VALUE=DATE:20241226
DTEND;VALUE=DATE:20241230
DTSTAMP:20260421T054559
CREATED:20241029T115102Z
LAST-MODIFIED:20241029T115102Z
UID:2673-1735171200-1735516799@judo-olimpija.com
SUMMARY:Priprave Bardonecchia - Natale Judo Camp 2024
DESCRIPTION:
URL:http://judo-olimpija.com/dogodki/priprave-bardonecchia-natale-judo-camp-2024/
LOCATION:Bardonecchia TC\, Via Mallen\, 1\, Bardonecchia\, TO\, 10052\, Italija
CATEGORIES:Priprave
END:VEVENT
BEGIN:VEVENT
DTSTART;TZID=Europe/Ljubljana:20241223T160000
DTEND;TZID=Europe/Ljubljana:20241223T200000
DTSTAMP:20260421T054559
CREATED:20241212T063445Z
LAST-MODIFIED:20241212T063445Z
UID:2906-1734969600-1734984000@judo-olimpija.com
SUMMARY:Klubski KAGAMI BIRAKI + obdarovanje
DESCRIPTION:
URL:http://judo-olimpija.com/dogodki/klubski-kagami-biraki-obdarovanje/
LOCATION:Borilnica Tivoli\, Celovška cesta 25\, Ljubljana\, 1000\, Slovenija
END:VEVENT
BEGIN:VEVENT
DTSTART;VALUE=DATE:20241221
DTEND;VALUE=DATE:20241222
DTSTAMP:20260421T054559
CREATED:20241029T114214Z
LAST-MODIFIED:20241029T114214Z
UID:2668-1734739200-1734825599@judo-olimpija.com
SUMMARY:Kagami Biraki Golovec
DESCRIPTION:
URL:http://judo-olimpija.com/dogodki/kagami-biraki-golovec/
LOCATION:Golovec\, Golovec\, Ljubljana\, 1000\, Slovenija
CATEGORIES:Tekmovanje
END:VEVENT
BEGIN:VEVENT
DTSTART;TZID=Europe/Ljubljana:20241219T160000
DTEND;TZID=Europe/Ljubljana:20241219T180000
DTSTAMP:20260421T054559
CREATED:20241029T083714Z
LAST-MODIFIED:20241029T083714Z
UID:2666-1734624000-1734631200@judo-olimpija.com
SUMMARY:Klubski CICI turnir
DESCRIPTION:Klubski turnir v judo igrah v parih za Tivolsko CICI skupino in začetnik iz osnovnošolskih skupin OŠ Prule in OŠ Toneta Čufarja. \n\nskupina (letniki 2017-2014): 16:00-17:00\nskupina (letniki 2018\, 2019): 17:00-18:00
URL:http://judo-olimpija.com/dogodki/klubski-cici-turnir/
LOCATION:Borilnica Tivoli\, Celovška cesta 25\, Ljubljana\, 1000\, Slovenija
CATEGORIES:Klubska aktivnost
END:VEVENT
BEGIN:VEVENT
DTSTART;VALUE=DATE:20241214
DTEND;VALUE=DATE:20241215
DTSTAMP:20260421T054559
CREATED:20241029T083254Z
LAST-MODIFIED:20241029T083254Z
UID:2663-1734134400-1734220799@judo-olimpija.com
SUMMARY:Pokal Nika Vrbla
DESCRIPTION:
URL:http://judo-olimpija.com/dogodki/pokal-nika-vrbla/
LOCATION:Maribor\, Maribor\, Slovenija
CATEGORIES:Tekmovanje
END:VEVENT
BEGIN:VEVENT
DTSTART;TZID=Europe/Ljubljana:20241130T080000
DTEND;TZID=Europe/Ljubljana:20241130T170000
DTSTAMP:20260421T054559
CREATED:20241020T214852Z
LAST-MODIFIED:20241020T214852Z
UID:2595-1732953600-1732986000@judo-olimpija.com
SUMMARY:Pokal Iva Reye
DESCRIPTION:
URL:http://judo-olimpija.com/dogodki/pokal-iva-reye/
LOCATION:Celje\, Celje\, Slovenija
CATEGORIES:Tekmovanje
END:VEVENT
BEGIN:VEVENT
DTSTART;VALUE=DATE:20241130
DTEND;VALUE=DATE:20241201
DTSTAMP:20260421T054559
CREATED:20241020T214543Z
LAST-MODIFIED:20241020T214917Z
UID:2592-1732924800-1733011199@judo-olimpija.com
SUMMARY:Novoletni turnir Celje
DESCRIPTION:
URL:http://judo-olimpija.com/dogodki/novoletni-turnir-celje/
LOCATION:Celje\, Celje\, Slovenija
CATEGORIES:Tekmovanje
END:VEVENT
BEGIN:VEVENT
DTSTART;VALUE=DATE:20241124
DTEND;VALUE=DATE:20241125
DTSTAMP:20260421T054559
CREATED:20241020T214258Z
LAST-MODIFIED:20241020T214258Z
UID:2590-1732406400-1732492799@judo-olimpija.com
SUMMARY:Državno ekipno prvenstvo - 2. liga
DESCRIPTION:
URL:http://judo-olimpija.com/dogodki/drzavno-ekipno-prvenstvo-2-liga/
END:VEVENT
BEGIN:VEVENT
DTSTART;VALUE=DATE:20241117
DTEND;VALUE=DATE:20241118
DTSTAMP:20260421T054559
CREATED:20240926T124248Z
LAST-MODIFIED:20240926T132349Z
UID:2450-1731801600-1731887999@judo-olimpija.com
SUMMARY:Mednarodni turnir NAGAOKA 2024
DESCRIPTION:
URL:http://judo-olimpija.com/dogodki/mednarodni-turnir-nagaoka-2024/
LOCATION:Dvorana Vižmarje Brod\, Na gaju 2\, Ljubljana\, 1000\, Slovenija
CATEGORIES:Klubska aktivnost,Tekmovanje
END:VEVENT
BEGIN:VEVENT
DTSTART;VALUE=DATE:20241116
DTEND;VALUE=DATE:20241117
DTSTAMP:20260421T054559
CREATED:20240926T114518Z
LAST-MODIFIED:20240926T132412Z
UID:2445-1731715200-1731801599@judo-olimpija.com
SUMMARY:Mednarodni turnir MINI NAGAOKA 2024
DESCRIPTION:
URL:http://judo-olimpija.com/dogodki/mednarodni-turnir-mini-nagaoka-2024/
LOCATION:Dvorana Vižmarje Brod\, Na gaju 2\, Ljubljana\, 1000\, Slovenija
CATEGORIES:Klubska aktivnost,Tekmovanje
END:VEVENT
BEGIN:VEVENT
DTSTART;VALUE=DATE:20241027
DTEND;VALUE=DATE:20241031
DTSTAMP:20260421T054559
CREATED:20240917T073311Z
LAST-MODIFIED:20240917T073311Z
UID:2422-1729987200-1730332799@judo-olimpija.com
SUMMARY:Klubske jesenske priprave
DESCRIPTION:Klubske priprave med jesenskimi počitnicami. Lokacija bo znana naknadno.
URL:http://judo-olimpija.com/dogodki/klubske-jesenske-priprave/
CATEGORIES:Klubska aktivnost,Priprave
END:VEVENT
BEGIN:VEVENT
DTSTART;VALUE=DATE:20241024
DTEND;VALUE=DATE:20241025
DTSTAMP:20260421T054559
CREATED:20240911T161247Z
LAST-MODIFIED:20240911T161247Z
UID:2401-1729728000-1729814399@judo-olimpija.com
SUMMARY:Klubski mnogoboj
DESCRIPTION:Klubsko prijateljsko tekmovanje in igre za najmlajše skupine iz Tivolija in osnovnošolske skupine.
URL:http://judo-olimpija.com/dogodki/klubski-mnogoboj/
LOCATION:Borilnica Tivoli\, Celovška cesta 25\, Ljubljana\, 1000\, Slovenija
CATEGORIES:Klubska aktivnost
END:VEVENT
BEGIN:VEVENT
DTSTART;VALUE=DATE:20241021
DTEND;VALUE=DATE:20241024
DTSTAMP:20260421T054559
CREATED:20240911T160842Z
LAST-MODIFIED:20240911T160842Z
UID:2398-1729468800-1729727999@judo-olimpija.com
SUMMARY:Priprave Koroška
DESCRIPTION:Organizirane mednarodne priprave po tekmovanju Koroška Open.
URL:http://judo-olimpija.com/dogodki/priprave-koroska/
LOCATION:Slovenj Gradec\, Slovenj Gradec\, 2380\, Slovenija
CATEGORIES:Priprave
END:VEVENT
BEGIN:VEVENT
DTSTART;VALUE=DATE:20241019
DTEND;VALUE=DATE:20241021
DTSTAMP:20260421T054559
CREATED:20240911T160442Z
LAST-MODIFIED:20240917T072920Z
UID:2395-1729296000-1729468799@judo-olimpija.com
SUMMARY:Koroška Open
DESCRIPTION:Uradno mednarodno tekmovanje. Udeležili se ga bomo s starostnima skupinama U21 in U16.
URL:http://judo-olimpija.com/dogodki/koroska-open/
LOCATION:Slovenj Gradec\, Slovenj Gradec\, 2380\, Slovenija
CATEGORIES:Tekmovanje
END:VEVENT
BEGIN:VEVENT
DTSTART;VALUE=DATE:20241012
DTEND;VALUE=DATE:20241013
DTSTAMP:20260421T054559
CREATED:20240911T154756Z
LAST-MODIFIED:20240917T072934Z
UID:2391-1728691200-1728777599@judo-olimpija.com
SUMMARY:Pokal Komende
DESCRIPTION:Tekmovanja se bomo udeležili s starostno skupino U16 in U14\, za katere je to uradno tekmovanje\, ki točkuje za Slovenski pokal.
URL:http://judo-olimpija.com/dogodki/pokal-komende/
LOCATION:Komenda\, Komenda\, 1218
CATEGORIES:Tekmovanje
END:VEVENT
END:VCALENDAR