﻿BEGIN:VCALENDAR
VERSION:2.0
PRODID:-//Judo klub Olimpija, Ljubljana - uradna spletna stran - ECPv6.5.1.4//NONSGML v1.0//EN
CALSCALE:GREGORIAN
METHOD:PUBLISH
X-WR-CALNAME:Judo klub Olimpija, Ljubljana - uradna spletna stran
X-ORIGINAL-URL:http://judo-olimpija.com
X-WR-CALDESC:Events for Judo klub Olimpija, Ljubljana - uradna spletna stran
REFRESH-INTERVAL;VALUE=DURATION:PT1H
X-Robots-Tag:noindex
X-PUBLISHED-TTL:PT1H
BEGIN:VTIMEZONE
TZID:Europe/Ljubljana
BEGIN:DAYLIGHT
TZOFFSETFROM:+0100
TZOFFSETTO:+0200
TZNAME:CEST
DTSTART:20250330T010000
END:DAYLIGHT
BEGIN:STANDARD
TZOFFSETFROM:+0200
TZOFFSETTO:+0100
TZNAME:CET
DTSTART:20251026T010000
END:STANDARD
END:VTIMEZONE
BEGIN:VEVENT
DTSTART;VALUE=DATE:20250510
DTEND;VALUE=DATE:20250511
DTSTAMP:20260422T000946
CREATED:20250419T161116Z
LAST-MODIFIED:20250419T161116Z
UID:3353-1746835200-1746921599@judo-olimpija.com
SUMMARY:Apolon Open
DESCRIPTION:
URL:http://judo-olimpija.com/dogodki/apolon-open/
LOCATION:Večnamenska športna dvorana Hoče\, Šolska ulica 14\, Hoče\, 2311\, Slovenija
CATEGORIES:Tekmovanje
END:VEVENT
BEGIN:VEVENT
DTSTART;TZID=Europe/Ljubljana:20250513T180000
DTEND;TZID=Europe/Ljubljana:20250513T183000
DTSTAMP:20260422T000946
CREATED:20250502T174224Z
LAST-MODIFIED:20250504T165133Z
UID:3412-1747159200-1747161000@judo-olimpija.com
SUMMARY:TEORIJA JUDA - predavanje Baštjan Fink
DESCRIPTION:Predavanje je namenjeno nosilcem od oranžnega pasu naprej\, da utrdijo znanje teorije juda\, ki je obvezni del izpita za vsak višji pas. \nPredaval bo Boštjan Fink\, član komisije za pasove\, nosilec mojstrskega pasu 6. DAN.
URL:http://judo-olimpija.com/dogodki/teorija-juda-predavanje-bastjan-fink/
LOCATION:Ilirija\, Celovška cesta 3\, Ljubljana\, 1000\, Slovenija
CATEGORIES:Klubska aktivnost
END:VEVENT
BEGIN:VEVENT
DTSTART;VALUE=DATE:20250517
DTEND;VALUE=DATE:20250518
DTSTAMP:20260422T000946
CREATED:20250419T161652Z
LAST-MODIFIED:20250419T161652Z
UID:3357-1747440000-1747526399@judo-olimpija.com
SUMMARY:Državno prvenstvo U12
DESCRIPTION:
URL:http://judo-olimpija.com/dogodki/drzavno-prvenstvo-u12/
LOCATION:Večnamenska športna dvorana Hoče\, Šolska ulica 14\, Hoče\, 2311\, Slovenija
CATEGORIES:Tekmovanje
END:VEVENT
BEGIN:VEVENT
DTSTART;VALUE=DATE:20250518
DTEND;VALUE=DATE:20250519
DTSTAMP:20260422T000946
CREATED:20250419T161800Z
LAST-MODIFIED:20250419T161800Z
UID:3359-1747526400-1747612799@judo-olimpija.com
SUMMARY:Državno prvenstvo U23
DESCRIPTION:
URL:http://judo-olimpija.com/dogodki/drzavno-prvenstvo-u23/
LOCATION:Večnamenska športna dvorana Hoče\, Šolska ulica 14\, Hoče\, 2311\, Slovenija
CATEGORIES:Tekmovanje
END:VEVENT
BEGIN:VEVENT
DTSTART;VALUE=DATE:20250524
DTEND;VALUE=DATE:20250525
DTSTAMP:20260422T000946
CREATED:20250419T162027Z
LAST-MODIFIED:20250419T162027Z
UID:3361-1748044800-1748131199@judo-olimpija.com
SUMMARY:Pokal Šiške
DESCRIPTION:
URL:http://judo-olimpija.com/dogodki/pokal-siske/
LOCATION:Šiška\, Drenikova ulica 32\, Ljubljana\, 1000\, Slovenija
CATEGORIES:Tekmovanje
END:VEVENT
BEGIN:VEVENT
DTSTART;VALUE=DATE:20250525
DTEND;VALUE=DATE:20250526
DTSTAMP:20260422T000946
CREATED:20250419T162304Z
LAST-MODIFIED:20250419T162327Z
UID:3365-1748131200-1748217599@judo-olimpija.com
SUMMARY:Palijev Memorial
DESCRIPTION:
URL:http://judo-olimpija.com/dogodki/palijev-memorial/
CATEGORIES:Tekmovanje
END:VEVENT
BEGIN:VEVENT
DTSTART;VALUE=DATE:20250531
DTEND;VALUE=DATE:20250602
DTSTAMP:20260422T000946
CREATED:20250419T162844Z
LAST-MODIFIED:20250419T162844Z
UID:3371-1748649600-1748822399@judo-olimpija.com
SUMMARY:Sarajevo Senior European Cup 2025
DESCRIPTION:
URL:http://judo-olimpija.com/dogodki/sarajevo-senior-european-cup-2025/
LOCATION:Sport hall “Arena Hotel Hills”\, Butmirska Cesta 12\, Sarajevo\, Bosnia and Herzegovina
CATEGORIES:Tekmovanje
END:VEVENT
BEGIN:VEVENT
DTSTART;TZID=Europe/Ljubljana:20250531T080000
DTEND;TZID=Europe/Ljubljana:20250531T170000
DTSTAMP:20260422T000946
CREATED:20250419T162441Z
LAST-MODIFIED:20250419T162511Z
UID:3368-1748678400-1748710800@judo-olimpija.com
SUMMARY:Pokal Krško
DESCRIPTION:
URL:http://judo-olimpija.com/dogodki/pokal-krsko/
LOCATION:Krško\, Krško\, Slovenija
CATEGORIES:Tekmovanje
END:VEVENT
BEGIN:VEVENT
DTSTART;VALUE=DATE:20250607
DTEND;VALUE=DATE:20250608
DTSTAMP:20260422T000946
CREATED:20250205T151227Z
LAST-MODIFIED:20250205T151227Z
UID:3168-1749254400-1749340799@judo-olimpija.com
SUMMARY:Piknik Judo kluba Olimpija
DESCRIPTION:
URL:http://judo-olimpija.com/dogodki/piknik-judo-kluba-olimpija/
LOCATION:Kajak – kanu klub Ljubljana\, Livada 31\, Ljubljana\, 1000
END:VEVENT
BEGIN:VEVENT
DTSTART;VALUE=DATE:20250818
DTEND;VALUE=DATE:20250823
DTSTAMP:20260422T000946
CREATED:20250419T155828Z
LAST-MODIFIED:20250420T081842Z
UID:3346-1755475200-1755907199@judo-olimpija.com
SUMMARY:Poletni judo tabor Kolpa 2025
DESCRIPTION:KJE? CŠOD Fara\, Fara 3\, 1336 Kostel \nKDO? \nOtroci rojeni leta 2017 in starejši \nKAJ? \nRaznovrstne športne dejavnosti: adrenalinski park\, plavanje\, kajak-kanu\, športno plezanje\, kolesarstvo\, nogomet\, košarka\, odbojka\, hokej\, namizni tenis\, pohodništvo … \nPOTREBŠČINE: \n\nposteljnina in hišni copati\nšportna oprema: zgornji del kimona in pas\, trenirka\, športni copati\, kopalke\, več parov nogavic in majic\, dve brisači\npripomočki za osebno higieno\n\nCENA \n 260€ (zajeti vsi stroški\, vključno s prevozom)\, cena za drugega  je 230€.  Ob prijavi se plača akontacija v višini 50 €\, preostali znesek se plača ob dhodu. \nPRIJAVA \nPovezavo do spletnega obrazca prejmete preko e-maila. \n  \nOdhod (18.avg): parkirišče pred Halo Tivoli ob 10:00 \nPrihod (22. avg): parkirišče pred Halo Tivoli ob 16:00 \n  \nPrenesi letak: Tabor Kolpa_2025
URL:http://judo-olimpija.com/dogodki/poletni-judo-tabor-kolpa-2025/
LOCATION:CŠOD OE Fara\, Fara 3\, Kostel\, 1336\, Slovenija
CATEGORIES:Klubska aktivnost,Priprave
END:VEVENT
END:VCALENDAR