﻿BEGIN:VCALENDAR
VERSION:2.0
PRODID:-//Judo klub Olimpija, Ljubljana - uradna spletna stran - ECPv6.5.1.4//NONSGML v1.0//EN
CALSCALE:GREGORIAN
METHOD:PUBLISH
X-ORIGINAL-URL:http://judo-olimpija.com
X-WR-CALDESC:Events for Judo klub Olimpija, Ljubljana - uradna spletna stran
REFRESH-INTERVAL;VALUE=DURATION:PT1H
X-Robots-Tag:noindex
X-PUBLISHED-TTL:PT1H
BEGIN:VTIMEZONE
TZID:Europe/Ljubljana
BEGIN:DAYLIGHT
TZOFFSETFROM:+0100
TZOFFSETTO:+0200
TZNAME:CEST
DTSTART:20240331T010000
END:DAYLIGHT
BEGIN:STANDARD
TZOFFSETFROM:+0200
TZOFFSETTO:+0100
TZNAME:CET
DTSTART:20241027T010000
END:STANDARD
END:VTIMEZONE
BEGIN:VEVENT
DTSTART;VALUE=DATE:20240921
DTEND;VALUE=DATE:20240923
DTSTAMP:20260422T035414
CREATED:20240911T123745Z
LAST-MODIFIED:20240917T073004Z
UID:2379-1726876800-1727049599@judo-olimpija.com
SUMMARY:Podgorica članski evropski pokal 2024
DESCRIPTION:
URL:http://judo-olimpija.com/dogodki/podgorica-clanski-evropski-pokal-2024/
LOCATION:Verde Complex\, Oktoih 2\, Donja Gorica\, Podgorica\, Črna Gora
CATEGORIES:Tekmovanje
END:VEVENT
END:VCALENDAR