﻿BEGIN:VCALENDAR
VERSION:2.0
PRODID:-//Judo klub Olimpija, Ljubljana - uradna spletna stran - ECPv6.5.1.4//NONSGML v1.0//EN
CALSCALE:GREGORIAN
METHOD:PUBLISH
X-WR-CALNAME:Judo klub Olimpija, Ljubljana - uradna spletna stran
X-ORIGINAL-URL:http://judo-olimpija.com
X-WR-CALDESC:Events for Judo klub Olimpija, Ljubljana - uradna spletna stran
REFRESH-INTERVAL;VALUE=DURATION:PT1H
X-Robots-Tag:noindex
X-PUBLISHED-TTL:PT1H
BEGIN:VTIMEZONE
TZID:Europe/Ljubljana
BEGIN:DAYLIGHT
TZOFFSETFROM:+0100
TZOFFSETTO:+0200
TZNAME:CEST
DTSTART:20250330T010000
END:DAYLIGHT
BEGIN:STANDARD
TZOFFSETFROM:+0200
TZOFFSETTO:+0100
TZNAME:CET
DTSTART:20251026T010000
END:STANDARD
END:VTIMEZONE
BEGIN:VEVENT
DTSTART;TZID=Europe/Ljubljana:20250513T180000
DTEND;TZID=Europe/Ljubljana:20250513T183000
DTSTAMP:20260420T232022
CREATED:20250502T174224Z
LAST-MODIFIED:20250504T165133Z
UID:3412-1747159200-1747161000@judo-olimpija.com
SUMMARY:TEORIJA JUDA - predavanje Baštjan Fink
DESCRIPTION:Predavanje je namenjeno nosilcem od oranžnega pasu naprej\, da utrdijo znanje teorije juda\, ki je obvezni del izpita za vsak višji pas. \nPredaval bo Boštjan Fink\, član komisije za pasove\, nosilec mojstrskega pasu 6. DAN.
URL:http://judo-olimpija.com/dogodki/teorija-juda-predavanje-bastjan-fink/
LOCATION:Ilirija\, Celovška cesta 3\, Ljubljana\, 1000\, Slovenija
CATEGORIES:Klubska aktivnost
END:VEVENT
END:VCALENDAR