﻿BEGIN:VCALENDAR
VERSION:2.0
PRODID:-//Judo klub Olimpija, Ljubljana - uradna spletna stran - ECPv6.5.1.4//NONSGML v1.0//EN
CALSCALE:GREGORIAN
METHOD:PUBLISH
X-ORIGINAL-URL:http://judo-olimpija.com
X-WR-CALDESC:Events for Judo klub Olimpija, Ljubljana - uradna spletna stran
REFRESH-INTERVAL;VALUE=DURATION:PT1H
X-Robots-Tag:noindex
X-PUBLISHED-TTL:PT1H
BEGIN:VTIMEZONE
TZID:Europe/Ljubljana
BEGIN:DAYLIGHT
TZOFFSETFROM:+0100
TZOFFSETTO:+0200
TZNAME:CEST
DTSTART:20250330T010000
END:DAYLIGHT
BEGIN:STANDARD
TZOFFSETFROM:+0200
TZOFFSETTO:+0100
TZNAME:CET
DTSTART:20251026T010000
END:STANDARD
END:VTIMEZONE
BEGIN:VEVENT
DTSTART;TZID=Europe/Ljubljana:20250422T170000
DTEND;TZID=Europe/Ljubljana:20250422T183000
DTSTAMP:20260422T041355
CREATED:20250419T160858Z
LAST-MODIFIED:20250419T160858Z
UID:3351-1745341200-1745346600@judo-olimpija.com
SUMMARY:Predavanje Prehrana mladega judoista
DESCRIPTION:Predstavili bomo ključne smernice prehrane za mlade športnike\, kako s prehrano optimalno podpreti treninge ter na kaj moramo biti še posebej pozorni pri razvoju prehranskih navad mladih v obdobju športnega razvoja. Prehrana v otroštvu in mladosti ima ključno vlogo pri zagotavljanju zdravja\, rasti\, razvoju ter športni zmogljivosti. Predavanje bo ponudilo tudi praktične primere in nasvete\, ki jih boste lahko takoj uporabili v vsakdanji praksi. \nPredavateljica: dr. Eva Peklaj\, uni. dipl. inž. živ. tehnol.\, klinični dietetik \nPredavanje je namenjeno staršem mladih judoistom \nKdaj: torek\, 22.4.2025 \nKje: prostor Kubus v  centru Ilirija \nUra: 17:00- cc 18:30 \nZa naše člane predavanje je  BREZPLAČNO!
URL:http://judo-olimpija.com/dogodki/predavanje-prehrana-mladega-judoista/
CATEGORIES:Klubska aktivnost
END:VEVENT
END:VCALENDAR