﻿BEGIN:VCALENDAR
VERSION:2.0
PRODID:-//Judo klub Olimpija, Ljubljana - uradna spletna stran - ECPv6.5.1.4//NONSGML v1.0//EN
CALSCALE:GREGORIAN
METHOD:PUBLISH
X-WR-CALNAME:Judo klub Olimpija, Ljubljana - uradna spletna stran
X-ORIGINAL-URL:http://judo-olimpija.com
X-WR-CALDESC:Events for Judo klub Olimpija, Ljubljana - uradna spletna stran
REFRESH-INTERVAL;VALUE=DURATION:PT1H
X-Robots-Tag:noindex
X-PUBLISHED-TTL:PT1H
BEGIN:VTIMEZONE
TZID:Europe/Ljubljana
BEGIN:DAYLIGHT
TZOFFSETFROM:+0100
TZOFFSETTO:+0200
TZNAME:CEST
DTSTART:20250330T010000
END:DAYLIGHT
BEGIN:STANDARD
TZOFFSETFROM:+0200
TZOFFSETTO:+0100
TZNAME:CET
DTSTART:20251026T010000
END:STANDARD
END:VTIMEZONE
BEGIN:VEVENT
DTSTART;TZID=Europe/Ljubljana:20250227T160000
DTEND;TZID=Europe/Ljubljana:20250227T200000
DTSTAMP:20260422T041123
CREATED:20250205T111544Z
LAST-MODIFIED:20250205T111544Z
UID:3165-1740672000-1740686400@judo-olimpija.com
SUMMARY:Obisk Vodnega mesta Atlantis med zimskimi počitnicami
DESCRIPTION:V četrtek 27. 2. popoldan načrtujemo skupinski obisk Vodnega mesta Atlantis. \nCena za 3-urni obisk bo 10 €/osebo. \nZbor v Tivoliju bo predvidoma ob 16 h in skupaj bi šli do Atlantisa z mestnim avtobusom. Lahko pa pridete direktno do Atlantisa\, kjer bi se torej dobili ob 16:30. \nProsimo\, da udeležbo javite preko obrazca\, ki ste ga prejeli na e-mail. Sporočite\, ali pridete v Tivoli ali do Atlatisa ter če bo z otrokom v Atlantis šel tudi starš.
URL:http://judo-olimpija.com/dogodki/obisk-vodnega-mesta-atlantis-med-zimskimi-pocitnicami/
LOCATION:Vodno mesto Atlantis\, Španska ulica 1\, Ljubljana\, 1000\, Slovenija
END:VEVENT
END:VCALENDAR