﻿BEGIN:VCALENDAR
VERSION:2.0
PRODID:-//Judo klub Olimpija, Ljubljana - uradna spletna stran - ECPv6.5.1.4//NONSGML v1.0//EN
CALSCALE:GREGORIAN
METHOD:PUBLISH
X-ORIGINAL-URL:http://judo-olimpija.com
X-WR-CALDESC:Events for Judo klub Olimpija, Ljubljana - uradna spletna stran
REFRESH-INTERVAL;VALUE=DURATION:PT1H
X-Robots-Tag:noindex
X-PUBLISHED-TTL:PT1H
BEGIN:VTIMEZONE
TZID:Europe/Ljubljana
BEGIN:DAYLIGHT
TZOFFSETFROM:+0100
TZOFFSETTO:+0200
TZNAME:CEST
DTSTART:20250330T010000
END:DAYLIGHT
BEGIN:STANDARD
TZOFFSETFROM:+0200
TZOFFSETTO:+0100
TZNAME:CET
DTSTART:20251026T010000
END:STANDARD
END:VTIMEZONE
BEGIN:VEVENT
DTSTART;VALUE=DATE:20250208
DTEND;VALUE=DATE:20250210
DTSTAMP:20260422T041345
CREATED:20250108T095921Z
LAST-MODIFIED:20250108T095921Z
UID:3060-1738972800-1739145599@judo-olimpija.com
SUMMARY:European Open Ljubljana 2025 - člani
DESCRIPTION:Podrobnosti tekmovanja: https://www.ijf.org/competition/2922 \n 
URL:http://judo-olimpija.com/dogodki/european-open-ljubljana-2025-clani/
CATEGORIES:Tekmovanje
END:VEVENT
BEGIN:VEVENT
DTSTART;VALUE=DATE:20250208
DTEND;VALUE=DATE:20250210
DTSTAMP:20260422T041345
CREATED:20250108T100631Z
LAST-MODIFIED:20250108T100631Z
UID:3062-1738972800-1739145599@judo-olimpija.com
SUMMARY:Sarajevo Junior European Cup 2025 - U21
DESCRIPTION:Podrobnosti tekmovanja: https://www.eju.net/event/sarajevo-junior-european-cup-2025/342387/
URL:http://judo-olimpija.com/dogodki/sarajevo-junior-european-cup-2025-u21/
LOCATION:Sport hall ” Arena” Hotel Hills\, Butmirska Cesta 12\, Sarajevo\, Bosnia and Herzegovina
CATEGORIES:Tekmovanje
END:VEVENT
BEGIN:VEVENT
DTSTART;TZID=Europe/Ljubljana:20250208T100000
DTEND;TZID=Europe/Ljubljana:20250208T130000
DTSTAMP:20260422T041345
CREATED:20250108T091403Z
LAST-MODIFIED:20250205T105731Z
UID:3037-1739008800-1739019600@judo-olimpija.com
SUMMARY:Zimski pohod - U12 in mlajši
DESCRIPTION:Pohod na Rašico za skupino U12 in mlajše ter njihove starše\, bratce/sestrice\, kužke … \nZBOR: 10:00\, parkirišče na začetku Rašice is strani Srednje Gameljne ( https://www.google.com/maps/dir//46.134766\,14.504231/@46.1347977\,14.4217741\,12z/data=!3m1!4b1!4m2!4m1!3e0!11m1!6b1?entry=ttu&g_ep=EgoyMDI1MDEyNi4wIKXMDSoASAFQAw%3D%3D )\n\nPOVRATEK: predviden do 13:00
URL:http://judo-olimpija.com/dogodki/zimski-pohod/
CATEGORIES:Klubska aktivnost
END:VEVENT
END:VCALENDAR